BEGIN:VCALENDAR
VERSION:2.0
PRODID:-//Liz Rabideau - ECPv6.13.2.1//NONSGML v1.0//EN
CALSCALE:GREGORIAN
METHOD:PUBLISH
X-ORIGINAL-URL:https://www.lizrabideau.com
X-WR-CALDESC:Events for Liz Rabideau
REFRESH-INTERVAL;VALUE=DURATION:PT1H
X-Robots-Tag:noindex
X-PUBLISHED-TTL:PT1H
BEGIN:VTIMEZONE
TZID:America/New_York
BEGIN:DAYLIGHT
TZOFFSETFROM:-0500
TZOFFSETTO:-0400
TZNAME:EDT
DTSTART:20150308T070000
END:DAYLIGHT
BEGIN:STANDARD
TZOFFSETFROM:-0400
TZOFFSETTO:-0500
TZNAME:EST
DTSTART:20151101T060000
END:STANDARD
BEGIN:DAYLIGHT
TZOFFSETFROM:-0500
TZOFFSETTO:-0400
TZNAME:EDT
DTSTART:20160313T070000
END:DAYLIGHT
BEGIN:STANDARD
TZOFFSETFROM:-0400
TZOFFSETTO:-0500
TZNAME:EST
DTSTART:20161106T060000
END:STANDARD
BEGIN:DAYLIGHT
TZOFFSETFROM:-0500
TZOFFSETTO:-0400
TZNAME:EDT
DTSTART:20170312T070000
END:DAYLIGHT
BEGIN:STANDARD
TZOFFSETFROM:-0400
TZOFFSETTO:-0500
TZNAME:EST
DTSTART:20171105T060000
END:STANDARD
BEGIN:DAYLIGHT
TZOFFSETFROM:-0500
TZOFFSETTO:-0400
TZNAME:EDT
DTSTART:20180311T070000
END:DAYLIGHT
BEGIN:STANDARD
TZOFFSETFROM:-0400
TZOFFSETTO:-0500
TZNAME:EST
DTSTART:20181104T060000
END:STANDARD
END:VTIMEZONE
BEGIN:VEVENT
DTSTART;TZID=America/New_York:20180708T083000
DTEND;TZID=America/New_York:20180708T100000
DTSTAMP:20260423T132953
CREATED:20180615T122849Z
LAST-MODIFIED:20180615T122849Z
UID:727-1531038600-1531044000@www.lizrabideau.com
SUMMARY:44th Annual Wellfleet Road Race
DESCRIPTION:Beautiful\, albeit hilly\, 5 mile course along Chequessett Neck Rd in Wellfleet. The race starts and ends at Mayo Beach near the Town Pier.
URL:https://www.lizrabideau.com/calendar/44th-annual-wellfleet-road-race/
LOCATION:Mayo Beach\, Wellfleet\, MA\, United States
CATEGORIES:Calendar
END:VEVENT
BEGIN:VEVENT
DTSTART;TZID=America/New_York:20180623T093000
DTEND;TZID=America/New_York:20180623T103000
DTSTAMP:20260423T132953
CREATED:20180615T122053Z
LAST-MODIFIED:20180615T122913Z
UID:725-1529746200-1529749800@www.lizrabideau.com
SUMMARY:9th Annual Harwich 5K Road Race Run and Walk
DESCRIPTION:The Harwich 5K Road Race is a commitment from our town to keep our kids moving!  All age groups are welcome to participate– to walk or run and enjoy the course.  \n• Awards for Top 3 Finishers in Each Division \n• First 300 registrants Get a FREE T-Shirt! \n• Professionally Timed\, Scenic\, Flat Route Through the Village of Harwich Port \n• US Track and Field Certified Timed Course\, Scenic\, Flat Route Through Harwich Port \n• Free Pre-Race Stretching Clinic \n• After Party Celebration and Award Ceremony at Ember Coal Fired Pizza and Wings \n• Walkers Welcome! A Fun Family Friendly Event! \n• Race Benefits: Harwich Youth for Youth Fitness Related Harwich Programs
URL:https://www.lizrabideau.com/calendar/9th-annual-harwich-5k-road-race-run-and-walk/
LOCATION:Harwich Port\, Harwich Port\, MA\, United States
CATEGORIES:Calendar
END:VEVENT
BEGIN:VEVENT
DTSTART;TZID=America/New_York:20180616T180000
DTEND;TZID=America/New_York:20180616T190000
DTSTAMP:20260423T132953
CREATED:20180615T121518Z
LAST-MODIFIED:20180615T122941Z
UID:723-1529172000-1529175600@www.lizrabideau.com
SUMMARY:Women Running Wild 5K
DESCRIPTION:Cape Cod’s only All Women’s road race\, set in the beautiful village of Osterville. A flat easy 5K with amazing ocean views. \nCourse is USATF Certified (certification #MA10019JK)
URL:https://www.lizrabideau.com/calendar/women-running-wild-5k/
LOCATION:Osterville Community Center\, Osterville\, United States
CATEGORIES:Calendar
END:VEVENT
BEGIN:VEVENT
DTSTART;TZID=America/New_York:20180616T070000
DTEND;TZID=America/New_York:20180616T100000
DTSTAMP:20260423T132953
CREATED:20180615T120639Z
LAST-MODIFIED:20180615T122234Z
UID:721-1529132400-1529143200@www.lizrabideau.com
SUMMARY:Hyannis Sprint Triathlon
DESCRIPTION:The Hyannis 1 race starts and finishes at picturesque\, sandy Craigville Beach. It is a challenging race— but still able to be completed by fitness enthusiasts who have trained for the distances. The atmosphere is special; the views are spectacular; and your satisfaction of accomplishment will last for a long time! \nThe Hyannis Triathlon ha been: \n\nnamed as one of the 20 Best Triathlons in the Nation by Men’s Health magazine (2016)\nnamed one of The Most Amazing Triathlons to Do in the USA Today by The Culture Trip (2017)\nvoted one of the Top 5 Small Races Worldwide by the Triathlete’s Choice Awards(2018)
URL:https://www.lizrabideau.com/calendar/hyannis-sprint-triathlon-2/
LOCATION:Craigville Beach\, Centerville\, United States
CATEGORIES:Calendar
END:VEVENT
BEGIN:VEVENT
DTSTART;TZID=America/New_York:20180610T090000
DTEND;TZID=America/New_York:20180610T110000
DTSTAMP:20260423T132953
CREATED:20180514T033500Z
LAST-MODIFIED:20180514T033500Z
UID:690-1528621200-1528628400@www.lizrabideau.com
SUMMARY:14th Annual Ocean to Bay 5 Miler - Truro
DESCRIPTION:The most scenic run around and the only race that takes you to both\, the Ocean and the Bay! Race with the backdrop of the Atlantic ocean\, run through Truro to Cape Cod Bay and then return to the light after a quick visit to Coast Guard Road beach. Plus\, you’ll get a free ticket to tour the oldest lighthouse on Cape Cod. All proceeds from the Ocean To Bay 5 Mile Run benefit the Cape Cod Highland Lighthouse.
URL:https://www.lizrabideau.com/calendar/14th-annual-ocean-to-bay-5-miler-truro/
LOCATION:Highland Lighthouse\, Truro\, MA\, United States
CATEGORIES:Calendar
END:VEVENT
BEGIN:VEVENT
DTSTART;TZID=America/New_York:20180520T110000
DTEND;TZID=America/New_York:20180520T120000
DTSTAMP:20260423T132953
CREATED:20180514T032053Z
LAST-MODIFIED:20180514T032053Z
UID:689-1526814000-1526817600@www.lizrabideau.com
SUMMARY:YPD Run for a Reason 5k
DESCRIPTION:Why We Run…\nWe run together to remember the hero\, Sean Gannon\, who we have lost but who lives forever in our hearts. We run to honor his memory and raise funds and awareness of this cause and his legacy. \nSgt Sean Gannon was killed in the line of duty on April 12th of this year. We are  joining together to raise funds in his honor.
URL:https://www.lizrabideau.com/calendar/ypd-run-for-a-reason-5k/
LOCATION:Skipper Restaurant\, 152 South Shore Rd\, South Yarmouth\, MA\, United States
CATEGORIES:Calendar
END:VEVENT
BEGIN:VEVENT
DTSTART;TZID=America/New_York:20180519T090000
DTEND;TZID=America/New_York:20180519T100000
DTSTAMP:20260423T132953
CREATED:20180514T031652Z
LAST-MODIFIED:20180514T032140Z
UID:687-1526720400-1526724000@www.lizrabideau.com
SUMMARY:LM5K Run/Walk for Women and Children
DESCRIPTION:The Lee Ann Mannillo Foundation will dedicate the proceeds of the 2018 LM5K to a local family rocked by the devastating loss of Christina Murphy. Just weeks after their second child was born\, Joe Murphy is grieving the loss of his wife Christina while working to care for their two young boys. The loss of Christina deeply moved the LAMF Board to dedicate the 2018 LM5K to Joe and his sons. \nThe LM5K is run in honor of the spirit of compassion & community that Lee embodied. \nThis annual 5k run/walk has generated support for both the Lee Ann Mannillo Foundation and a separate fund to enhance our regional impact through the efforts and talent of Cape Cod Child Development (CCCD). Thanks to the success of this event we have distributed close to $10\,000 to support families in need directly through our foundation’s grants and gone even further through resources provided by the CCCD Lee Ann Mannillo Sunshine Fund.
URL:https://www.lizrabideau.com/calendar/lm5k-runwalk-for-women-and-children/
LOCATION:Pilot House Restaurant\, Sandwich\, MA\, United States
CATEGORIES:Calendar
END:VEVENT
BEGIN:VEVENT
DTSTART;TZID=America/New_York:20171123T080000
DTEND;TZID=America/New_York:20171123T090000
DTSTAMP:20260423T132953
CREATED:20171022T003708Z
LAST-MODIFIED:20171022T004022Z
UID:650-1511424000-1511427600@www.lizrabideau.com
SUMMARY:36th Annual Turkey Trot
DESCRIPTION:
URL:https://www.lizrabideau.com/calendar/36th-annual-turkey-trot/
LOCATION:Boys & Girls Club\, Ridgefield\, CT\, United States
CATEGORIES:Calendar
END:VEVENT
BEGIN:VEVENT
DTSTART;TZID=America/New_York:20171119T073000
DTEND;TZID=America/New_York:20171119T120000
DTSTAMP:20260423T132953
CREATED:20171022T003258Z
LAST-MODIFIED:20171022T003914Z
UID:648-1511076600-1511092800@www.lizrabideau.com
SUMMARY:Cambridge Half Marathon
DESCRIPTION:
URL:https://www.lizrabideau.com/calendar/cambridge-half-marathon/
LOCATION:CambridgeSide\, Cambrige\, MA\, United States
CATEGORIES:Calendar
END:VEVENT
BEGIN:VEVENT
DTSTART;TZID=America/New_York:20171014T060000
DTEND;TZID=America/New_York:20171014T100000
DTSTAMP:20260423T132953
CREATED:20170219T123425Z
LAST-MODIFIED:20170219T123852Z
UID:609-1507960800-1507975200@www.lizrabideau.com
SUMMARY:Eversource Hartford Half Marathon
DESCRIPTION:#RunHartford. Be part of the biggest race day in Connecticut. Where runners\, families\, charities and volunteers come together in an inspiring display of community spirit.
URL:https://www.lizrabideau.com/calendar/eversource-hartford-half-marathon/
LOCATION:Bushnell Park\, Hartford\, CT\, United States
END:VEVENT
BEGIN:VEVENT
DTSTART;VALUE=DATE:20170716
DTEND;VALUE=DATE:20170717
DTSTAMP:20260423T132953
CREATED:20170219T122255Z
LAST-MODIFIED:20170219T122255Z
UID:603-1500163200-1500249599@www.lizrabideau.com
SUMMARY:New York City Triathlon
DESCRIPTION:Each year\, thousands of athletes brave the waters of the mighty Hudson River before biking along Manhattan’s West Side highway. Finally\, athletes put on their running shoes for a run through New York’s famed Central Park in the final stage of this iconic race.
URL:https://www.lizrabideau.com/calendar/new-york-city-triathlon-4/
LOCATION:New York City\, 99th Street & Hudson River\, New York City\, NY\, United States
END:VEVENT
BEGIN:VEVENT
DTSTART;TZID=America/New_York:20170617T060000
DTEND;TZID=America/New_York:20170617T100000
DTSTAMP:20260423T132953
CREATED:20170219T122556Z
LAST-MODIFIED:20170219T122556Z
UID:604-1497679200-1497693600@www.lizrabideau.com
SUMMARY:Hyannis Sprint I
DESCRIPTION:This is the longest-running triathlon on Cape Cod — and one of the oldest races in the world. Recently named as one of the 20 best triathlons in the nation by Men’s Health magazine\, both the Hyannis 1 and Hyannis 2 races start and finish at picturesque Craigville Beach. They’re challenging — but still able to be completed by fitness enthusiasts who have trained for the distances. The atmosphere is special; the views are spectacular; and your satisfaction of accomplishment will last for a long time!
URL:https://www.lizrabideau.com/calendar/hyannis-sprint-i/
LOCATION:Craigville Beach\, Centerville\, United States
END:VEVENT
BEGIN:VEVENT
DTSTART;TZID=America/New_York:20170529T080000
DTEND;TZID=America/New_York:20170529T100000
DTSTAMP:20260423T132953
CREATED:20170219T124817Z
LAST-MODIFIED:20170219T124817Z
UID:611-1496044800-1496052000@www.lizrabideau.com
SUMMARY:Provincetown Diva Dash 5K
DESCRIPTION:Provincetown Cares 4th Annual Memorial Day Weekend Diva Dash 5k Fun Run/Walk. Come as a team\, individual\, bring your families and friends and raise money for the women we love.
URL:https://www.lizrabideau.com/calendar/provincetown-diva-dash-5k/
LOCATION:Harbor Hotel\, 698 Commercial St\, Provincetown\, MA\, United States
END:VEVENT
BEGIN:VEVENT
DTSTART;TZID=America/New_York:20170506T080000
DTEND;TZID=America/New_York:20170506T100000
DTSTAMP:20260423T132953
CREATED:20170219T125422Z
LAST-MODIFIED:20170219T125422Z
UID:613-1494057600-1494064800@www.lizrabideau.com
SUMMARY:Brewster in Bloom 5K
DESCRIPTION:Beautiful\, flat and fun 5k course on the Northside beginning at the Woodshed off Historic Route 6A. A wonderful\, family friendly event; perfect race to kick-off the summer season.
URL:https://www.lizrabideau.com/calendar/brewster-in-bloom-5k-2/
LOCATION:The Woodshed\, Rte 6A\, Brewster\, MA\, United States
END:VEVENT
BEGIN:VEVENT
DTSTART;TZID=America/New_York:20170430T060000
DTEND;TZID=America/New_York:20170430T100000
DTSTAMP:20260423T132953
CREATED:20170219T123129Z
LAST-MODIFIED:20170219T123129Z
UID:608-1493532000-1493546400@www.lizrabideau.com
SUMMARY:SHAPE Women's Half Marathon
DESCRIPTION:The 14th annual SHAPE Women’s Half-Marathon brings together thousands of women of all ages and backgrounds for a day of fun\, fitness\, and camaraderie in NYC. Whether you’re coming from across the country or from around the corner\, join SHAPE and New York Road Runners in Central Park on Sunday\, April 30\, for an unforgettable race.
URL:https://www.lizrabideau.com/calendar/shape-womens-half-marathon/
LOCATION:New York City\, 99th Street & Hudson River\, New York City\, NY\, United States
END:VEVENT
BEGIN:VEVENT
DTSTART;TZID=America/New_York:20170226T060000
DTEND;TZID=America/New_York:20170226T100000
DTSTAMP:20260423T132953
CREATED:20170219T123720Z
LAST-MODIFIED:20170219T123720Z
UID:610-1488088800-1488103200@www.lizrabideau.com
SUMMARY:Hyannis Half Marathon
DESCRIPTION:The Hyannis Marathon\, Half Marathon\, 10Km & Marathon Relay is one of the premier February race events in New England. It’s the first distance race event of the year with runners from all over New England hoping to either run a personal record\, cover the distance for the first time\, maybe qualify for the Boston Marathon or to just get moving again after a winter of cold and slow runs!
URL:https://www.lizrabideau.com/calendar/hyannis-half-marathon/
LOCATION:Resort & Conference Center\, 35 Scudder Ave\, Hyannis\, United States
END:VEVENT
BEGIN:VEVENT
DTSTART;TZID=America/New_York:20161008T080000
DTEND;TZID=America/New_York:20161008T130000
DTSTAMP:20260423T132953
CREATED:20160405T182100Z
LAST-MODIFIED:20160405T182100Z
UID:546-1475913600-1475931600@www.lizrabideau.com
SUMMARY:Hartford Marathon
DESCRIPTION:The Eversource Hartford Marathon and Team Relay showcase the revitalized riverfronts of Hartford and East Hartford with breathtaking views of the Connecticut River and the New England classic of Old Main Street\, South Windsor.
URL:https://www.lizrabideau.com/calendar/hartford-marathon/
LOCATION:Bushnell Park\, Hartford\, CT\, United States
CATEGORIES:Calendar
END:VEVENT
BEGIN:VEVENT
DTSTART;TZID=America/New_York:20160910T060000
DTEND;TZID=America/New_York:20160910T090000
DTSTAMP:20260423T132953
CREATED:20160405T181536Z
LAST-MODIFIED:20160405T181609Z
UID:544-1473487200-1473498000@www.lizrabideau.com
SUMMARY:Hyannis Sprint Triathlon II
DESCRIPTION:Nestled along the Atlantic shores on Cape Cod’s most famous beach\, Craigville. The triathlon starts with a 1/4-mile swim: refreshing Atlantic Ocean setting with a close-to-shore\, rectangular design. Then it’s onto a 10-mile bike: scenic and lightly-rolling loop through Historic Osterville and Centerville\, with incredible ocean vistas. Then finishing with a 3.5-mile run: a flat and scenic lollipop out-and-back within Craigville Village.
URL:https://www.lizrabideau.com/calendar/hyannis-sprint-triathlon-ii/
LOCATION:Craigville Beach\, Centerville\, United States
CATEGORIES:Calendar
END:VEVENT
BEGIN:VEVENT
DTSTART;TZID=America/New_York:20160717T060000
DTEND;TZID=America/New_York:20160717T110000
DTSTAMP:20260423T132953
CREATED:20160405T181214Z
LAST-MODIFIED:20160405T181214Z
UID:542-1468735200-1468753200@www.lizrabideau.com
SUMMARY:New York City Triathlon
DESCRIPTION:Each year\, thousands of athletes brave the waters of the mighty Hudson River before biking along Manhattan’s West Side highway. Finally\, athletes put on their running shoes for a run through New York’s famed Central Park in the final stage of this iconic race.
URL:https://www.lizrabideau.com/calendar/new-york-city-triathlon-3/
LOCATION:Central Park\, West Drive near 63rd Street\, New York City\, United States
CATEGORIES:Calendar
END:VEVENT
BEGIN:VEVENT
DTSTART;TZID=America/New_York:20160709T080000
DTEND;TZID=America/New_York:20160709T100000
DTSTAMP:20260423T132953
CREATED:20160405T180844Z
LAST-MODIFIED:20160405T180844Z
UID:539-1468051200-1468058400@www.lizrabideau.com
SUMMARY:Red Dress Run for Women
DESCRIPTION:A 5K run/walk exclusively for women of all ages & abilities to celebrate women’s fitness. \nThe 3.1 mile route starts and finishes in the beautiful Elizabeth Park Rose Garden (with over 15\,000 roses in full bloom!) and travels through shade covered residential streets on wide\, well paved roads.
URL:https://www.lizrabideau.com/calendar/red-dress-run-for-women/
LOCATION:Elizabeth Park\, West Hartford\, CT\, United States
CATEGORIES:Calendar
END:VEVENT
BEGIN:VEVENT
DTSTART;TZID=America/New_York:20160604T080000
DTEND;TZID=America/New_York:20160604T110000
DTSTAMP:20260423T132954
CREATED:20160405T180356Z
LAST-MODIFIED:20160405T180408Z
UID:536-1465027200-1465038000@www.lizrabideau.com
SUMMARY:Wellfleet Sprint Triathlon
DESCRIPTION:The Wellfleet Sprint Triathlon began in 2011 as the Lower Cape Sprint Triathlon and was established to raise money for Cape Cod’s only nonprofit community radio station\, WOMR. Dubbed “a great race in a most beautiful place\,” Wellfleet is one of Cape Cod’s most picturesque towns. Part of the race course is located on a vista overlooking the Atlantic Ocean.
URL:https://www.lizrabideau.com/calendar/wellfleet-sprint-triathlon/
LOCATION:Long Pond\, Long Pond Rd\, Wellfleet\, MA\, United States
CATEGORIES:Calendar
END:VEVENT
BEGIN:VEVENT
DTSTART;TZID=America/New_York:20160529T080000
DTEND;TZID=America/New_York:20160529T100000
DTSTAMP:20260423T132954
CREATED:20160405T175553Z
LAST-MODIFIED:20160405T175553Z
UID:533-1464508800-1464516000@www.lizrabideau.com
SUMMARY:Diva Dash 2016
DESCRIPTION:A super fun point-to-point 5K down Commercial Street in Provincetown. Choosing to run in costume makes this run even more fun! The fans LOVE the costumes and prizes are awarded not only for the top race finishers but for those in great costumes! Come join the fun and support the women of Provincetown.
URL:https://www.lizrabideau.com/calendar/diva-dash-2016/
LOCATION:Harbor Hotel\, 698 Commercial St\, Provincetown\, MA\, United States
END:VEVENT
BEGIN:VEVENT
DTSTART;TZID=America/New_York:20160515T080000
DTEND;TZID=America/New_York:20160515T170000
DTSTAMP:20260423T132954
CREATED:20160423T234247Z
LAST-MODIFIED:20160423T234247Z
UID:567-1463299200-1463331600@www.lizrabideau.com
SUMMARY:Tour de Barnstable - A "Grand BikeDo"
DESCRIPTION:A “Grand Bike Do” in the tradition of European “Gran Fondo’s\,” this is a shorter distance\, but as the name implies\, will be great fun for all participants. \nThis a 35-mile ride through all the villages of the Town of Barnstable on Cape Cod\, Massachusetts.
URL:https://www.lizrabideau.com/calendar/tour-de-barnstable-a-grand-bikedo/
LOCATION:Aselton Park\, Hyannis\, MA\, United States
CATEGORIES:Calendar
END:VEVENT
BEGIN:VEVENT
DTSTART;TZID=America/New_York:20160508T070000
DTEND;TZID=America/New_York:20160508T090000
DTSTAMP:20260423T132954
CREATED:20160405T174352Z
LAST-MODIFIED:20160502T135139Z
UID:528-1462690800-1462698000@www.lizrabideau.com
SUMMARY:Mother's Day 10K
DESCRIPTION:A great race to celebrate mothers everywhere. The race is along the beautiful Cape Cod Canal; starting at The Bourne Scenic Park heading up toward the Sagamore Bridge. Always fun to have a robust Mother’s Day breakfast post race!
URL:https://www.lizrabideau.com/calendar/brewster-in-bloom-5k/
LOCATION:Unnamed Venue\, Scenic Highway\, Bourne\, MA\, United States
CATEGORIES:Calendar
END:VEVENT
BEGIN:VEVENT
DTSTART;TZID=America/New_York:20160423T160000
DTEND;TZID=America/New_York:20160423T190000
DTSTAMP:20260423T132954
CREATED:20160421T193908Z
LAST-MODIFIED:20160421T193908Z
UID:560-1461427200-1461438000@www.lizrabideau.com
SUMMARY:CC Beer Race to the Pint
DESCRIPTION:  \n  \n5k/10k Walk/Run to benefit the Cape Wellness Collaborative. The Cape Wellness Collaborative (CWC) provides free-of-charge integrative and complementary therapies to people facing cancer in our community. \nWalk/Run starts and ends at the brewery. The course is 5k\, take a second loop for the 10k course. A pint for all racers (21+) included in registration price. \nAfter the race comes the party! Party entry fee for non-racers is $5 cash donation for Cape Wellness Collaborative. \nFood by Not Your Average Joes and Fiddlestix. Music by 57 Heavy. \nFree for children 12 and under.
URL:https://www.lizrabideau.com/calendar/cc-beer-race-to-the-pint/
LOCATION:Cape Cod Beer\, 1336 Phinneys Lane\, Hyannis\, MA\, United States
END:VEVENT
BEGIN:VEVENT
DTSTART;TZID=America/New_York:20160418T060000
DTEND;TZID=America/New_York:20160418T110000
DTSTAMP:20260423T132954
CREATED:20160405T173734Z
LAST-MODIFIED:20160405T173734Z
UID:526-1460959200-1460977200@www.lizrabideau.com
SUMMARY:MORE/Shape Half Marathon
DESCRIPTION:The 13th annual MORE/SHAPE Women’s Half-Marathon brings together thousands of women of all ages and backgrounds for a day of fun\, fitness\, and camaraderie in NYC. Whether you’re coming from across the country or from around the corner\, join us in Central Park on Sunday\, April 17\, for an unforgettable race.
URL:https://www.lizrabideau.com/calendar/moreshape-half-marathon/
LOCATION:Unnamed Venue\, Central Park\, New York\, United States
CATEGORIES:Calendar
END:VEVENT
BEGIN:VEVENT
DTSTART;TZID=America/New_York:20151127T070000
DTEND;TZID=America/New_York:20151127T100000
DTSTAMP:20260423T132954
CREATED:20150930T120002Z
LAST-MODIFIED:20150930T120002Z
UID:499-1448607600-1448618400@www.lizrabideau.com
SUMMARY:Pequot Runners Thanksgiving Turkey Trot
DESCRIPTION:Thanksgiving
URL:https://www.lizrabideau.com/calendar/pequot-runners-thanksgiving-turkey-trot/
LOCATION:Wakeman Boys and Girls Club\, 385 Center Street\, Southport\, CT\, United States
END:VEVENT
BEGIN:VEVENT
DTSTART;TZID=America/New_York:20151010T070000
DTEND;TZID=America/New_York:20151010T100000
DTSTAMP:20260423T132954
CREATED:20150930T115428Z
LAST-MODIFIED:20150930T115428Z
UID:495-1444460400-1444471200@www.lizrabideau.com
SUMMARY:Hartford Half Marathon
DESCRIPTION:Inspiring finish line – Hartford Half Marathon
URL:https://www.lizrabideau.com/calendar/hartford-half-marathon/
LOCATION:Bushnell Park\, Hartford\, CT\, United States
END:VEVENT
BEGIN:VEVENT
DTSTART;TZID=America/New_York:20150802T060000
DTEND;TZID=America/New_York:20150802T100000
DTSTAMP:20260423T132954
CREATED:20150601T140500Z
LAST-MODIFIED:20150601T140500Z
UID:488-1438495200-1438509600@www.lizrabideau.com
SUMMARY:Block Island Triathlon
DESCRIPTION:Race starts with 1/4 mi swim in the pristine East Beaches followed by a 12 mi bike around the West Side of the scenic island concluding with a 4 mi run on the East Beaches.
URL:https://www.lizrabideau.com/calendar/block-island-triathlon/
LOCATION:Block Island\, Rhode Island\, Shoreham\, RI\, United States
END:VEVENT
BEGIN:VEVENT
DTSTART;TZID=America/New_York:20150719T060000
DTEND;TZID=America/New_York:20150719T110000
DTSTAMP:20260423T132954
CREATED:20150601T135803Z
LAST-MODIFIED:20150601T135814Z
UID:487-1437285600-1437303600@www.lizrabideau.com
SUMMARY:New York City Triathlon
DESCRIPTION:Each year\, thousands of athletes brave the waters of the mighty Hudson River before biking along Manhattan’s West Side highway. Finally\, athletes put on their running shoes for a run through New York’s famed Central Park in the final stage of this iconic race. \nNew York City Triathlon 2014
URL:https://www.lizrabideau.com/calendar/new-york-city-triathlon-2/
LOCATION:Central Park\, West Drive near 63rd Street\, New York City\, United States
END:VEVENT
END:VCALENDAR